BEGIN:VCALENDAR
VERSION:2.0
PRODID:-//National Association for Public Defense - ECPv6.13.2.1//NONSGML v1.0//EN
CALSCALE:GREGORIAN
METHOD:PUBLISH
X-ORIGINAL-URL:https://publicdefenders.us
X-WR-CALDESC:Events for National Association for Public Defense
REFRESH-INTERVAL;VALUE=DURATION:PT1H
X-Robots-Tag:noindex
X-PUBLISHED-TTL:PT1H
BEGIN:VTIMEZONE
TZID:America/New_York
BEGIN:DAYLIGHT
TZOFFSETFROM:-0500
TZOFFSETTO:-0400
TZNAME:EDT
DTSTART:20260308T070000
END:DAYLIGHT
BEGIN:STANDARD
TZOFFSETFROM:-0400
TZOFFSETTO:-0500
TZNAME:EST
DTSTART:20261101T060000
END:STANDARD
END:VTIMEZONE
BEGIN:VEVENT
DTSTART;TZID=America/New_York:20260429T120000
DTEND;TZID=America/New_York:20260429T130000
DTSTAMP:20260421T185247
CREATED:20260407T200639Z
LAST-MODIFIED:20260407T200850Z
UID:10000623-1777464000-1777467600@publicdefenders.us
SUMMARY:Social Worker Meetup
DESCRIPTION:Stephanne Cline Thornton is a West Virginia native who has worked in and around criminal defense and mitigation for more than 20 years in Georgia\, Colorado\, and West Virginia. She is currently the Clinical Director for the West Virginia Judicial and Lawyer Assistance Program\, and owner of Transform Legal\, a consultancy focused on mitigation\, training\, and sustainability. As a Licensed Independent Clinical Social Worker and Master Addiction Counselor\, Stephanne focuses on proper assessment for and access to trauma and substance use disorder treatment to ensure the health and well-being of affected individuals. Stephanne is on the Trauma-Informed Care Network Speakers Bureau and uses that platform to call attention to the intersection of secondary traumatic stress and legal practice. She approaches her work with clients\, lawyers\, social workers\, and mitigation specialists through a contextualized mitigation lens.
URL:https://publicdefenders.us/event/social-worker-meetup-6/
LOCATION:Virtual\, Virtual Event
CATEGORIES:Meetup
END:VEVENT
BEGIN:VEVENT
DTSTART;TZID=America/New_York:20260506T120000
DTEND;TZID=America/New_York:20260506T130000
DTSTAMP:20260421T185247
CREATED:20260128T180937Z
LAST-MODIFIED:20260309T134025Z
UID:10000624-1778068800-1778072400@publicdefenders.us
SUMMARY:Social Worker Meetup
DESCRIPTION:Stephanne Cline Thornton is a West Virginia native who has worked in and around criminal defense and mitigation for more than 20 years in Georgia\, Colorado\, and West Virginia. She is currently the Clinical Director for the West Virginia Judicial and Lawyer Assistance Program\, and owner of Transform Legal\, a consultancy focused on mitigation\, training\, and sustainability. As a Licensed Independent Clinical Social Worker and Master Addiction Counselor\, Stephanne focuses on proper assessment for and access to trauma and substance use disorder treatment to ensure the health and well-being of affected individuals. Stephanne is on the Trauma-Informed Care Network Speakers Bureau and uses that platform to call attention to the intersection of secondary traumatic stress and legal practice. She approaches her work with clients\, lawyers\, social workers\, and mitigation specialists through a contextualized mitigation lens.
URL:https://publicdefenders.us/event/social-worker-meetup/2026-05-06/
LOCATION:Virtual\, Virtual Event
CATEGORIES:Meetup
END:VEVENT
BEGIN:VEVENT
DTSTART;TZID=America/New_York:20260520T120000
DTEND;TZID=America/New_York:20260520T130000
DTSTAMP:20260421T185247
CREATED:20260128T180937Z
LAST-MODIFIED:20260309T134025Z
UID:10000625-1779278400-1779282000@publicdefenders.us
SUMMARY:Social Worker Meetup
DESCRIPTION:Stephanne Cline Thornton is a West Virginia native who has worked in and around criminal defense and mitigation for more than 20 years in Georgia\, Colorado\, and West Virginia. She is currently the Clinical Director for the West Virginia Judicial and Lawyer Assistance Program\, and owner of Transform Legal\, a consultancy focused on mitigation\, training\, and sustainability. As a Licensed Independent Clinical Social Worker and Master Addiction Counselor\, Stephanne focuses on proper assessment for and access to trauma and substance use disorder treatment to ensure the health and well-being of affected individuals. Stephanne is on the Trauma-Informed Care Network Speakers Bureau and uses that platform to call attention to the intersection of secondary traumatic stress and legal practice. She approaches her work with clients\, lawyers\, social workers\, and mitigation specialists through a contextualized mitigation lens.
URL:https://publicdefenders.us/event/social-worker-meetup/2026-05-20/
LOCATION:Virtual\, Virtual Event
CATEGORIES:Meetup
END:VEVENT
END:VCALENDAR