BEGIN:VCALENDAR
VERSION:2.0
PRODID:-//National Association for Public Defense - ECPv6.13.2.1//NONSGML v1.0//EN
CALSCALE:GREGORIAN
METHOD:PUBLISH
X-ORIGINAL-URL:https://publicdefenders.us
X-WR-CALDESC:Events for National Association for Public Defense
REFRESH-INTERVAL;VALUE=DURATION:PT1H
X-Robots-Tag:noindex
X-PUBLISHED-TTL:PT1H
BEGIN:VTIMEZONE
TZID:America/New_York
BEGIN:DAYLIGHT
TZOFFSETFROM:-0500
TZOFFSETTO:-0400
TZNAME:EDT
DTSTART:20230312T070000
END:DAYLIGHT
BEGIN:STANDARD
TZOFFSETFROM:-0400
TZOFFSETTO:-0500
TZNAME:EST
DTSTART:20231105T060000
END:STANDARD
END:VTIMEZONE
BEGIN:VEVENT
DTSTART;TZID=America/New_York:20231201T140000
DTEND;TZID=America/New_York:20231201T150000
DTSTAMP:20260421T023522
CREATED:20231130T151338Z
LAST-MODIFIED:20231130T152949Z
UID:10000033-1701439200-1701442800@publicdefenders.us
SUMMARY:Investigator Meetup - 12/01/2023 2:00 EST\, 1:00 CST - Open Chat
DESCRIPTION:Get ready for a fantastic Friday stress-busting meet-up! We’re here to lend an empathetic ear and be your sounding board for whatever is on your mind. There’s no rigid agenda here – we’re keeping it free-flowing. Whether you’ve got complaints\, gripes\, or exciting successes to share\, we’re all ears and ready to chat. So\, don’t miss out on this opportunity to unwind\, connect\, and let it all out! Join us for an uplifting conversation!
URL:https://publicdefenders.us/event/investigator-meetup-12-01-2023-200-est-100-cst-open-chat/
CATEGORIES:Meetup
LOCATION:https://publicdefenders-us.zoom.us/j/87895561683
END:VEVENT
BEGIN:VEVENT
DTSTART;TZID=America/New_York:20231208T140000
DTEND;TZID=America/New_York:20231208T150000
DTSTAMP:20260421T023522
CREATED:20231205T195409Z
LAST-MODIFIED:20231206T211119Z
UID:10000034-1702044000-1702047600@publicdefenders.us
SUMMARY:Investigator Meetup - 12/08/2023 2:00 EST\, 1:00 CST - Open Chat
DESCRIPTION:Get ready for a fantastic Friday stress-busting meet-up! We’re here to lend an empathetic ear and be your sounding board for whatever is on your mind. There’s no rigid agenda here – we’re keeping it free-flowing. Whether you’ve got complaints\, gripes\, or exciting successes to share\, we’re all ears and ready to chat. So\, don’t miss out on this opportunity to unwind\, connect\, and let it all out! Join us for an uplifting conversation!\n 
URL:https://publicdefenders.us/event/investigator-meetup-12-08-2023-200-est-100-cst-open-chat/
CATEGORIES:Meetup
LOCATION:https://publicdefenders-us.zoom.us/j/87895561683
END:VEVENT
BEGIN:VEVENT
DTSTART;TZID=America/New_York:20231212T130000
DTEND;TZID=America/New_York:20231212T140000
DTSTAMP:20260421T023522
CREATED:20231211T181101Z
LAST-MODIFIED:20231211T181101Z
UID:10000037-1702386000-1702389600@publicdefenders.us
SUMMARY:JOIN US for our first DEIJ & Racial Justice Meetup Mashup!
DESCRIPTION:DEIJ and Racial Justice Meetup Members\, \nJOIN US for our first DEIJ & Racial Justice Meetup Mashup! At this month’s meetup\, we will focus on the lessons from THE RACIAL JUSTICE CONFERENCE (RJC) (October 2023) and the work that needs to be done. Be ready to share one or two points of inspiration and/or valuable lessons! Didn’t attend RJC? Come to hear more and be inspired. \nThe meetup agenda will be posted on the listserv. Not on the listserv? Send your request to be added to BGT\, DEIJ Coordinator\, at Brittanygt@publicdefenders.us. \nSee you there!
URL:https://publicdefenders.us/event/join-us-for-our-first-deij-racial-justice-meetup-mashup/
LOCATION:https://publicdefenders-us.zoom.us/j/82126934757
END:VEVENT
BEGIN:VEVENT
DTSTART;TZID=America/New_York:20231213T140000
DTEND;TZID=America/New_York:20231213T150000
DTSTAMP:20260421T023522
CREATED:20231212T234320Z
LAST-MODIFIED:20231212T235226Z
UID:10000045-1702476000-1702479600@publicdefenders.us
SUMMARY:Investigator Supervisor meetup - 12-13-2023 final one of this year!
DESCRIPTION:Supervisors\, leaders and senior investigators \nPlease join us tomorrow for our monthly meetup\, bring your concerns\, issues and successes! \nSee you then!
URL:https://publicdefenders.us/event/investigator-supervisor-meetup-12-13-2023-final-one-of-this-year/
CATEGORIES:Meetup
LOCATION:https://publicdefenders-us.zoom.us/j/82381950121
END:VEVENT
END:VCALENDAR