BEGIN:VCALENDAR
VERSION:2.0
PRODID:-//National Association for Public Defense - ECPv6.13.2.1//NONSGML v1.0//EN
CALSCALE:GREGORIAN
METHOD:PUBLISH
X-WR-CALNAME:National Association for Public Defense
X-ORIGINAL-URL:https://publicdefenders.us
X-WR-CALDESC:Events for National Association for Public Defense
REFRESH-INTERVAL;VALUE=DURATION:PT1H
X-Robots-Tag:noindex
X-PUBLISHED-TTL:PT1H
BEGIN:VTIMEZONE
TZID:America/New_York
BEGIN:DAYLIGHT
TZOFFSETFROM:-0500
TZOFFSETTO:-0400
TZNAME:EDT
DTSTART:20240310T070000
END:DAYLIGHT
BEGIN:STANDARD
TZOFFSETFROM:-0400
TZOFFSETTO:-0500
TZNAME:EST
DTSTART:20241103T060000
END:STANDARD
END:VTIMEZONE
BEGIN:VEVENT
DTSTART;TZID=America/New_York:20240919T120000
DTEND;TZID=America/New_York:20240919T150000
DTSTAMP:20260420T224415
CREATED:20240801T120427Z
LAST-MODIFIED:20240905T153355Z
UID:10000206-1726747200-1726758000@publicdefenders.us
SUMMARY:Virtual Open Space on Public Defense Independence
DESCRIPTION:  \n\nProtecting Independence \nTo serve their clients\, public defenders must be free from political and judicial control. NAPD’s Foundational Principles and the American Bar Association’s (ABA) Ten Principles of a Public Defense Delivery System therefore discourage practices that undermine defense independence\, like: \n\nJustices controlling oversight boards\nLaw enforcement officials having oversight roles\nGovernors having exclusive appointment powers\nCounty officials removing directors at will\nJudges selecting defense lawyers for their courtrooms\nJudges restricting defense expenses\n\nWhen independence is challenged\, NAPD makes our voice heard\, most recently in places like Connecticut\, Louisiana\, and Colorado. We are now partnering with the ABA Criminal Justice Section and Standing Committee on Legal Aid and Indigent Defense on a Task Force on Public Defense Independence. NAPD and the ABA Task Force are co-hosting this event.  \nThis virtual Open Space event is an opportunity for defenders from around the country to workshop local issues and shape national advocacy on this key issue. \nOpen Space Format \nRather than having experts deliver presentations and answer questions\, Open Spaces are designed for participants to start their own “rooms” for discussions and move between those rooms freely\, guided by where they feel they are learning and contributing. \nWe will have a brief opening in which participants offer their own topics for discussion\, then have two rounds of discussion in which they can move from room to room. We will close by sharing notes from each discussion\, which will be sent to all meeting participants. \nPast virtual Open Spaces on recruitment and workloads have produced practical strategies for addressing those challenges. Please join us on September 19 to discuss how to take action to protect the integrity of public defense systems.
URL:https://publicdefenders.us/event/virtual-open-space-on-public-defense-independence/
CATEGORIES:Webinar
ATTACH;FMTTYPE=image/png:https://publicdefenders.us/app/uploads/2024/01/Website-Event-Badge-OpenSpace.png
LOCATION:https://publicdefenders.us/event/virtual-open-space-on-public-defense-independence/
END:VEVENT
BEGIN:VEVENT
DTSTART;TZID=America/New_York:20240923T150000
DTEND;TZID=America/New_York:20240923T160000
DTSTAMP:20260420T224415
CREATED:20240701T210418Z
LAST-MODIFIED:20240716T145713Z
UID:10000186-1727103600-1727107200@publicdefenders.us
SUMMARY:Sleep Disturbances and Disorders: Criminal Justice\, Forensic Mental Health\, and Legal Considerations
DESCRIPTION:Adequate sleep is the foundation to optimal emotional\, behavioral\, social\, and physical health functioning. Unfortunately\, problems associated with sleep are a common issue among individuals in the general population\, with even higher rates reported among criminal justice and forensic mental health-involved populations. As such\, it is imperative for these impacted individuals to receive appropriate supports and services from professional providers who understand the complexities of sleep dysfunction and its implications for concerning\, problematic\, criminal\, and vulnerable behaviors. Designed for professionals working in criminal justice\, forensic mental health\, and legal settings\, this training provides attendees with a working understanding of the causes\, consequences\, and interventions associated with sleep disturbances and disorders among criminal justice and forensic mental health-based populations. Other topics discussed in this training include anger\, aggression\, and violence\, incarceration\, suggestibility\, misinformation effect\, fantasy proneness\, false confessions\, vulnerability and victimization\, executive dysfunction\, error monitoring deficits\, uncertainty\, rule following problems\, carelessness\, problematic coping strategies\, circadian rhythm misalignment. language impairment\, auditory processing deficits\, social cognition\, sluggish cognitive tempo\, comprehension deficits\, fatigue\, information processing deficits\, choice-making deficits\, abstract reasoning deficits\, memory confusion\, self-regulation deficits\, and sensory processing limitations to name a few. Empirically based research findings examples will be highlighted throughout this training. \nJerrod Brown\, Ph.D.\, M.A.\, M.S.\, M.S.\, M.S.\, is a professor\, trainer\, researcher\, and consultant with multiple years of experience teaching collegiate courses. Jerrod is also the founder and CEO of the American Institute for the Advancement of Forensic Studies (AIAFS). Jerrod has also provided consultation services to a number of caregivers\, professionals\, and organizations pertaining to topics related to autism spectrum disorder (ASD)\, fetal alcohol spectrum disorder (FASD)\, confabulation\, suggestibility\, trauma and other life adversities\, alexithymia\, executive dysfunction\, criminal recidivism\, traumatic brain injury (TBI)\, and youth firesetting. Jerrod has completed four separate master’s degree programs and holds graduate certificates in Medical Biochemistry\, Exercise Prescription\, Neuroscience and the Law\, Neuropsychology\, Autism Spectrum Disorder (ASD)\, Other Health Disabilities (OHD)\, and Traumatic-Brain Injuries (TBI). In 2021\, Jerrod completed a post-doctoral certificate in Leadership and Organizational Strategy from Walden University and a Professional Certificate in Forensic Psychology from San Diego State University Global Campus. In 2023\, Jerrod completed a diabetes care and education certificate from Central Arizona College. Currently\, Jerrod is pursuing his fifth master’s degree in Applied Clinical Nutrition from Northeast College of Health Sciences. Jerrod has also conducted over 200 workshops\, webinars\, and on-demand trainings for various organizations and professional and student audiences. Jerrod has published several articles and book chapters\, and recently\, co-edited the book Forensic Mental Health: A Source Guide for Professionals (Brown & Weinkauf\, 2018) with Erv Weinkauf. Jerrod has also been quoted in various magazines\, newspapers\, and other professional outlets. Jerrod is also regularly featured on several national and international podcast programs.
URL:https://publicdefenders.us/event/sleep-disturbances/
CATEGORIES:Webinar
LOCATION:https://publicdefenders.us/event/sleep-disturbances/
END:VEVENT
END:VCALENDAR