BEGIN:VCALENDAR
VERSION:2.0
PRODID:-//National Association for Public Defense - ECPv6.13.2.1//NONSGML v1.0//EN
CALSCALE:GREGORIAN
METHOD:PUBLISH
X-WR-CALNAME:National Association for Public Defense
X-ORIGINAL-URL:https://publicdefenders.us
X-WR-CALDESC:Events for National Association for Public Defense
REFRESH-INTERVAL;VALUE=DURATION:PT1H
X-Robots-Tag:noindex
X-PUBLISHED-TTL:PT1H
BEGIN:VTIMEZONE
TZID:America/New_York
BEGIN:DAYLIGHT
TZOFFSETFROM:-0500
TZOFFSETTO:-0400
TZNAME:EDT
DTSTART:20240310T070000
END:DAYLIGHT
BEGIN:STANDARD
TZOFFSETFROM:-0400
TZOFFSETTO:-0500
TZNAME:EST
DTSTART:20241103T060000
END:STANDARD
END:VTIMEZONE
BEGIN:VEVENT
DTSTART;TZID=America/New_York:20240801T150000
DTEND;TZID=America/New_York:20240801T163000
DTSTAMP:20260421T003334
CREATED:20240606T182908Z
LAST-MODIFIED:20240606T183325Z
UID:10000174-1722524400-1722529800@publicdefenders.us
SUMMARY:Streamlining Justice with AI  (Sponsored by NICE)
DESCRIPTION:The volume\, velocity\, and variety of digital evidence is growing at an exponential rate. As a public defender\, digital evidence is essential to the work you do every day\, but it’s becoming increasingly difficult to manage. In this webinar we’ll explain how Digital Evidence Management solutions\, powered by AI\, are helping to streamline evidence analysis and trial preparation\, and reduce backlogs and delays. \nThursday\, August 1 at 3 pm Eastern/Noon Pacific \nRegister to attend to learn what AI is and how it works\, about future applications of AI in criminal defense\, and how you can leverage AI-powered Digital Evidence Management today to: \n\nCut case preparation time\, costs\, and reduce case backlog\nMake previously unsearchable evidence types searchable\, using Object Character Recognition (OCR)\nUncover hidden connections to ensure you’re not missing any evidence\nAutomate transcription of audio and video\, and quickly redact it\, using automated face detection\nBridge the understaffing gap\n\n\n\n\n\nRegister Here »\n\n\n\n\nPresenters \n\nJohn Rennie\, General Manager\, NICE Public Safety & Justice\nShelly Williams\, Director of Product Management\, NICE Public Safety & Justice\nRyan Lommel\, Solutions Executive\, NICE Public Safety & Justice
URL:https://publicdefenders.us/event/streamlining-justice-with-ai-sponsored-by-nice/
CATEGORIES:Webinar
ATTACH;FMTTYPE=image/jpeg:https://publicdefenders.us/app/uploads/2024/06/NAPD_NICE_Webinar_Header_-_650W_x_220H.jpg
END:VEVENT
BEGIN:VEVENT
DTSTART;TZID=America/New_York:20240819T150000
DTEND;TZID=America/New_York:20240819T160000
DTSTAMP:20260421T003334
CREATED:20240612T000203Z
LAST-MODIFIED:20240705T205053Z
UID:10000179-1724079600-1724083200@publicdefenders.us
SUMMARY:Fetal Alcohol Spectrum Disorder (FASD): Criminal Justice\, Forensic Mental Health\, and Legal Considerations
DESCRIPTION:Fetal alcohol spectrum disorder (FASD) is a lifelong neurodevelopment disorder caused by prenatal exposure to alcohol. This spectrum of disorders is characterized by deficits in cognitive (e.g.\, inhibition\, information processing\, and memory) and adaptive functioning (e.g.\, communication skills\, problem-solving\, and decision-making). These symptoms place some individuals with FASD at risk for involvement in the criminal justice system. Once involved\, individuals with FASD usually struggle to make legal decisions\, participates in their legal defense\, and conform to conditions of incarceration or community supervision. Designed for professionals working in criminal justice\, forensic mental health\, and legal settings\, this training broadens awareness of FASD and identifies practices and techniques designed to improve outcomes when working with persons with suspected or confirmed FASD. Other topics discussed in this training include executive dysfunction\, suggestibility\, confabulation\, gullibility\, auditory processing deficits\, alexithymia\, theory of mind (ToM)\, sluggish cognitive tempo\, comprehension deficits\, sleep disturbances and fatigue\, information processing deficits\, choice-making deficits\, abstract reasoning deficits\, memory confusion\, self-regulation deficits\, and sensory processing limitations to name a few. Empirically based research findings and case study examples will be highlighted throughout this training. \nJerrod Brown\, Ph.D.\, M.A.\, M.S.\, M.S.\, M.S.\, is a professor\, trainer\, researcher\, and consultant with multiple years of experience teaching collegiate courses. Jerrod is also the founder and CEO of the American Institute for the Advancement of Forensic Studies (AIAFS). Jerrod has also provided consultation services to a number of caregivers\, professionals\, and organizations pertaining to topics related to autism spectrum disorder (ASD)\, fetal alcohol spectrum disorder (FASD)\, confabulation\, suggestibility\, trauma and other life adversities\, alexithymia\, executive dysfunction\, criminal recidivism\, traumatic brain injury (TBI)\, and youth firesetting. Jerrod has completed four separate master’s degree programs and holds graduate certificates in Neuroscience and the Law\, Neuropsychology\, Autism Spectrum Disorder (ASD)\, Other Health Disabilities (OHD)\, and Traumatic-Brain Injuries (TBI). In 2021\, Jerrod completed a post-doctoral certificate in Leadership and Organizational Strategy from Walden University and a Professional Certificate in Forensic Psychology from San Diego State University Global Campus. In 2023\, Jerrod completed a diabetes care and education certificate from Central Arizona College. Currently\, Jerrod is pursuing his fifth master’s degree in Applied Clinical Nutrition from Northeast College of Health Sciences. Jerrod has also conducted over 200 workshops\, webinars\, and on-demand trainings for various organizations and professional and student audiences. Jerrod has published several articles and book chapters\, and recently\, co-edited the book Forensic Mental Health: A Source Guide for Professionals (Brown & Weinkauf\, 2018) with Erv Weinkauf. Jerrod has also been quoted in various magazines\, newspapers\, and other professional outlets. Jerrod is also regularly featured on several national and international podcast programs. Email: Jerrod01234Brown@live.com \n 
URL:https://publicdefenders.us/event/fetal-alcohol-spectrum-disorder-fasd-criminal-justice-forensic-mental-health-and-legal-considerations/
CATEGORIES:Webinar
ATTACH;FMTTYPE=image/png:https://publicdefenders.us/app/uploads/2023/12/Events-Icons-webinar.png
LOCATION:https://publicdefenders.us/event/fetal-alcohol-spectrum-disorder-fasd-criminal-justice-forensic-mental-health-and-legal-considerations/
END:VEVENT
END:VCALENDAR