BEGIN:VCALENDAR
VERSION:2.0
PRODID:-//National Association for Public Defense - ECPv6.13.2.1//NONSGML v1.0//EN
CALSCALE:GREGORIAN
METHOD:PUBLISH
X-ORIGINAL-URL:https://publicdefenders.us
X-WR-CALDESC:Events for National Association for Public Defense
REFRESH-INTERVAL;VALUE=DURATION:PT1H
X-Robots-Tag:noindex
X-PUBLISHED-TTL:PT1H
BEGIN:VTIMEZONE
TZID:America/New_York
BEGIN:DAYLIGHT
TZOFFSETFROM:-0500
TZOFFSETTO:-0400
TZNAME:EDT
DTSTART:20240310T070000
END:DAYLIGHT
BEGIN:STANDARD
TZOFFSETFROM:-0400
TZOFFSETTO:-0500
TZNAME:EST
DTSTART:20241103T060000
END:STANDARD
END:VTIMEZONE
BEGIN:VEVENT
DTSTART;VALUE=DATE:20241107
DTEND;VALUE=DATE:20241109
DTSTAMP:20260421T000110
CREATED:20240807T191426Z
LAST-MODIFIED:20241108T054402Z
UID:10000210-1730937600-1731110399@publicdefenders.us
SUMMARY:Virtual - The Color of Mitigation Conference
DESCRIPTION:The Color of Mitigation is aimed at practitioners of color that work as\, or are interested in\, becoming mitigation specialists. \nWhat is a mitigation specialist? Mitigation specialists are vital members of criminal defense teams\, representing clients that are facing the death penalty in 24 out of 50 states in addition to those charged at a federal level. They are skilled members of the death penalty or capital teams who conduct life history investigations to humanize clients to the courts\, juries\, and other decision-makers. \nThe Color of Mitigation will welcome those interested in this area of defense work and provide critical training for those in the field. Accomplished members of the capital defense community will lead conference sessions and help build a strong professional network. \nWe will also help attendees build their professional/company profiles and assist them in gaining access to the field\, one that serves many people of color as defendants but does not have an open door for practitioners of color. \nTopics will include \n\nThe Evolution and Future of Mitigation\nNavigating Racial Dynamics in Capital Defense\nAdvanced Mitigation Techniques: Crafting Compelling Life Stories\nThe Intersection of Mental Health and Mitigation\nBuilding a Career in Mitigation: Access\, Networking\, and Growth\nThe Role of Race\, Identity\, and Client Advocacy\nWellness and Resilience in High-Stakes Advocacy\nClosing Session: Reflecting on Our Work and Moving Forward\n\nThis training is curated for: \n\nPersons of color\nCapital Mitigation investigators\nSocial workers interested in capital work\nInvestigators doing mitigation on capital cases\nFact investigators transitioning into mitigation investigation\nCapital mitigation attorneys\nClient advocates preparing mitigation and alternative sentencing plans\, etc.\n\nApply for a Scholarship .  Deadline Oct 15.
URL:https://publicdefenders.us/event/virtual-the-color-of-mitigation-conference/
CATEGORIES:Virtual Conference
ATTACH;FMTTYPE=image/png:https://publicdefenders.us/app/uploads/2023/10/2.png
END:VEVENT
END:VCALENDAR