BEGIN:VCALENDAR
VERSION:2.0
PRODID:-//National Association for Public Defense - ECPv6.13.2.1//NONSGML v1.0//EN
CALSCALE:GREGORIAN
METHOD:PUBLISH
X-WR-CALNAME:National Association for Public Defense
X-ORIGINAL-URL:https://publicdefenders.us
X-WR-CALDESC:Events for National Association for Public Defense
REFRESH-INTERVAL;VALUE=DURATION:PT1H
X-Robots-Tag:noindex
X-PUBLISHED-TTL:PT1H
BEGIN:VTIMEZONE
TZID:America/New_York
BEGIN:DAYLIGHT
TZOFFSETFROM:-0500
TZOFFSETTO:-0400
TZNAME:EDT
DTSTART:20240310T070000
END:DAYLIGHT
BEGIN:STANDARD
TZOFFSETFROM:-0400
TZOFFSETTO:-0500
TZNAME:EST
DTSTART:20241103T060000
END:STANDARD
END:VTIMEZONE
BEGIN:VEVENT
DTSTART;TZID=America/New_York:20240226T133000
DTEND;TZID=America/New_York:20240226T153000
DTSTAMP:20260420T175900
CREATED:20240119T054917Z
LAST-MODIFIED:20240223T164043Z
UID:10000056-1708954200-1708961400@publicdefenders.us
SUMMARY:Film Screening of Sansón and Me
DESCRIPTION:Sansón and Me is a story a decade in the making\, which began when filmmaker Rodrigo Reyes served as a court interpreter in rural California for the then 19-year old Sansón Noé Andrade\, an undocumented Mexican immigrant who was sentenced to two life sentences without parole. The film is a vibrant portrait of a friendship navigating immigration and the depths of mass incarceration. Sansón and Me pushes the boundaries of cinematic imagination to rescue a young person’s story from oblivion\, and makes the case for a justice system that works to protect those who are vulnerable\, rather than continue to reinforce cycles of violence.\n\nThe nonprofit Represent Justice is running a national impact campaign to bring the film and conversations about incarceration and immigration with Sansón and Rodrigo to prisons\, lawyers\, journalism schools\, advocacy organizations and community programs: https://www.representjustice.org/campaigns/sanson-and-me/.\n\nThis webinar screening of Sansón and Me will be followed by a group discussion of the film and the ways in which the most vulnerable in the legal system can be served.\n\nThis film by Rodrigo Reyes is brought to you by Represent Justice and the webinar\, screening\, and discussion are hosted by the National Association for Public Defense.
URL:https://publicdefenders.us/event/film-screening-of-sanson-and-me/
CATEGORIES:Webinar
ATTACH;FMTTYPE=image/png:https://publicdefenders.us/app/uploads/2023/12/Events-Icons-webinar.png
LOCATION:https://publicdefenders.us/event/film-screening-of-sanson-and-me/
END:VEVENT
END:VCALENDAR