BEGIN:VCALENDAR
VERSION:2.0
PRODID:-//National Association for Public Defense - ECPv6.13.2.1//NONSGML v1.0//EN
CALSCALE:GREGORIAN
METHOD:PUBLISH
X-WR-CALNAME:National Association for Public Defense
X-ORIGINAL-URL:https://publicdefenders.us
X-WR-CALDESC:Events for National Association for Public Defense
REFRESH-INTERVAL;VALUE=DURATION:PT1H
X-Robots-Tag:noindex
X-PUBLISHED-TTL:PT1H
BEGIN:VTIMEZONE
TZID:America/New_York
BEGIN:DAYLIGHT
TZOFFSETFROM:-0500
TZOFFSETTO:-0400
TZNAME:EDT
DTSTART:20240310T070000
END:DAYLIGHT
BEGIN:STANDARD
TZOFFSETFROM:-0400
TZOFFSETTO:-0500
TZNAME:EST
DTSTART:20241103T060000
END:STANDARD
END:VTIMEZONE
BEGIN:VEVENT
DTSTART;TZID=America/New_York:20240220T130000
DTEND;TZID=America/New_York:20240220T140000
DTSTAMP:20260420T230142
CREATED:20240216T043101Z
LAST-MODIFIED:20240216T213823Z
UID:10000122-1708434000-1708437600@publicdefenders.us
SUMMARY:Social Worker Supervisors Meet-Up: Training Needs
DESCRIPTION:Need help with this registration process?  Watch this video.   \nWe are really excited to get a chance to meet-up and talk as supervisors in the social work role in this work\, and this year we’re hoping to make our monthly meet-ups engaging and purposeful. Our first meeting of 2024 will be held virtually on February 20th at 10 am PST/11 am MST/12 pm CST/1 pm EST and the topic for discussion will be about finding ways to support the training needs of our supervisees! Bring your thoughts\, questions\, highs\, and lows. We’re looking forward to the discussion. \nThe Supervisor Discussion for those in the Social Work role is jointly facilitated by Kevin Bishop\, Michael Moore\, and Claudia Dunne. \nStephanne Cline Thornton is a West Virginia native who has worked in and around criminal defense and mitigation for more than 20 years in Georgia\, Colorado\, and West Virginia. She is currently the Clinical Director for the West Virginia Judicial and Lawyer Assistance Program\, and owner of Transform Legal\, a consultancy focused on mitigation\, training\, and sustainability. As a Licensed Independent Clinical Social Worker and Master Addiction Counselor\, Stephanne focuses on proper assessment for and access to trauma and substance use disorder treatment to ensure the health and well-being of affected individuals. Stephanne is on the Trauma-Informed Care Network Speakers Bureau and uses that platform to call attention to the intersection of secondary traumatic stress and legal practice. She approaches her work with clients\, lawyers\, social workers\, and mitigation specialists through a contextualized mitigation lens. \nKevin Bishop\, LCSW\, Social Worker Coordinator with The Office of the Alternate Defense Counsel (CO);\nMichael E. Moore\, LMSW\, Social Work Supervisor with The Legal Aid Society\, Criminal Defense Practice (NY)\nClaudia Dunne\, LICSW\, Director of Social Work & Private Social Service Vendors\, Youth Advocacy Division (YAD)\, CPCS (MA).
URL:https://publicdefenders.us/event/social-worker-supervisors-meet-up-open-chat/
CATEGORIES:Meetup
ATTACH;FMTTYPE=image/png:https://publicdefenders.us/app/uploads/2023/12/Events-Icons-webinar-1.png
LOCATION:https://publicdefenders-us.zoom.us/j/84420649329
END:VEVENT
END:VCALENDAR