BEGIN:VCALENDAR
VERSION:2.0
PRODID:-//National Association for Public Defense - ECPv6.13.2.1//NONSGML v1.0//EN
CALSCALE:GREGORIAN
METHOD:PUBLISH
X-WR-CALNAME:National Association for Public Defense
X-ORIGINAL-URL:https://publicdefenders.us
X-WR-CALDESC:Events for National Association for Public Defense
REFRESH-INTERVAL;VALUE=DURATION:PT1H
X-Robots-Tag:noindex
X-PUBLISHED-TTL:PT1H
BEGIN:VTIMEZONE
TZID:America/New_York
BEGIN:DAYLIGHT
TZOFFSETFROM:-0500
TZOFFSETTO:-0400
TZNAME:EDT
DTSTART:20240310T070000
END:DAYLIGHT
BEGIN:STANDARD
TZOFFSETFROM:-0400
TZOFFSETTO:-0500
TZNAME:EST
DTSTART:20241103T060000
END:STANDARD
END:VTIMEZONE
BEGIN:VEVENT
DTSTART;VALUE=DATE:20240215
DTEND;VALUE=DATE:20240216
DTSTAMP:20260420T230140
CREATED:20231117T125728Z
LAST-MODIFIED:20240213T200732Z
UID:10000030-1707955200-1708041599@publicdefenders.us
SUMMARY:Online Train the Trainer - 2 Week Intensive - Create Your Own Online Course
DESCRIPTION:$1050 NAPD Members\, $1200 Non Members \n2 Week Intensive\nFeb 15 – Feb 27\, 2024\nTaught online with eight 90 minute small group meetings\nWe will meet through Zoom at 1:30 pm ET/10:30 am PT on February 15\, 16\, 20\, 21\, 22\, 23\, 26 & 27 \nRegistration Deadline Feb 1\nNeed help with this registration process?  Watch this video.   \nPlease only sign up if you are able to attend all of the small groups and commit to a minimum of 15 hours of out of class work during this 2 week period. The class is designed to get you to the point that you have a course ready to launch if you have the time to invest in the course during the 2 weeks. \nNAPD’s Public Defender Bring Your Own “Course” Train the Trainer program for the development of distance learning courses for your organizations.   This course will utilize both synchronous and asynchronous instruction methods. Participants will be expected to read materials and watch short videos on your own in preparation for each class meeting. The class will meet in regular online Zoom video conferences and will also use small group breakout sessions during class where you will work on the course that you are developing. We model best practices for you to incorporate into the course you create. \nYou will have the option of placing your finished course inside NAPD’s learning management system [LMS].  You will also be able to create a section within NAPD’s LMS for your organization with its own webpage address and design.  After the course you will be able to add additional courses and offer them to your own participants. (Your registration fee for this course includes using NAPD’s LMS for one course and up to 25 active participants in that course. Additional courses and active participants will be available for a reasonable cost to be determined to cover NAPD’s costs with the LMS provider (TalentLMS). \nYou will be part of a cooperative of public defense trainers from across the nation which provides you the opportunity to copy and modify portions of other courses for your use. \nLearning Objectives \nBy the end of this course\, participants will have developed and created a ready-to-launch public defense distance learning course by: \n* Creating learning objectives for your target audience\n* Storyboarding the arc of the course\n* Understanding and choosing between the different approaches to online learning methods\, including:\n* Asynchronous use of video\, reading\, discussion forums and quizzes\n* Synchronous use of online video conferencing\n* Understanding and setting up the equipment needed to record videos\n* Understanding and setting up individual modules in NAPD’s learning management system\n* Developing online small group facilitation skills\n* Assuring user accountability through reporting systems and quizzes\n* Sharing knowledge and resources with other public defense trainers to avoid recreating the wheel\n* Receiving feedback from the instructors and other participants regarding the design and delivery of the course
URL:https://publicdefenders.us/event/online-train-the-trainer-2-week-intensive-create-your-own-online-course/
CATEGORIES:Online Course
ATTACH;FMTTYPE=image/png:https://publicdefenders.us/app/uploads/2023/12/3.png
END:VEVENT
END:VCALENDAR