BEGIN:VCALENDAR
VERSION:2.0
PRODID:-//National Association for Public Defense - ECPv6.13.2.1//NONSGML v1.0//EN
CALSCALE:GREGORIAN
METHOD:PUBLISH
X-WR-CALNAME:National Association for Public Defense
X-ORIGINAL-URL:https://publicdefenders.us
X-WR-CALDESC:Events for National Association for Public Defense
REFRESH-INTERVAL;VALUE=DURATION:PT1H
X-Robots-Tag:noindex
X-PUBLISHED-TTL:PT1H
BEGIN:VTIMEZONE
TZID:America/New_York
BEGIN:DAYLIGHT
TZOFFSETFROM:-0500
TZOFFSETTO:-0400
TZNAME:EDT
DTSTART:20240310T070000
END:DAYLIGHT
BEGIN:STANDARD
TZOFFSETFROM:-0400
TZOFFSETTO:-0500
TZNAME:EST
DTSTART:20241103T060000
END:STANDARD
END:VTIMEZONE
BEGIN:VEVENT
DTSTART;TZID=America/New_York:20240214T140000
DTEND;TZID=America/New_York:20240214T150000
DTSTAMP:20260420T230138
CREATED:20240213T220754Z
LAST-MODIFIED:20240213T220754Z
UID:10000120-1707919200-1707922800@publicdefenders.us
SUMMARY:Investigator Supervisor meetup - Come Join us! 2-14-2024
DESCRIPTION:Supervisors\, leaders and senior investigators \nPlease join us tomorrow for our monthly meetup\, bring your concerns\, issues and successes! \nSee you then!
URL:https://publicdefenders.us/event/investigator-supervisor-meetup-come-join-us-2-14-2024/
CATEGORIES:Meetup
LOCATION:https://publicdefenders-us.zoom.us/j/82381950121
END:VEVENT
BEGIN:VEVENT
DTSTART;TZID=America/New_York:20240214T140000
DTEND;TZID=America/New_York:20240214T153000
DTSTAMP:20260420T230138
CREATED:20240124T173113Z
LAST-MODIFIED:20240205T182952Z
UID:10000036-1707919200-1707924600@publicdefenders.us
SUMMARY:Webinar: Collaborative\, Holistic Services: Where to Begin? Part 2
DESCRIPTION:Click the “Log In” button at the top of this page before registering.\nNeed help with this registration process?  Watch this video.  \n \nFebruary 14\, 2024 at 2:00 pm Eastern | 1:00 pm Central | 12:00 pm Mountain | 11:00 am Pacific (90 minutes) \nThe proliferation of collaborative\, holistic styled defense is revolutionizing public defenders across the country. Yet\, challenges remain in implementing these expanded services. In this second part of our conversation\, our panelists will focus on the successful implementation of a holistic practice\, including providing expanded services\, collaborating across functions and assessing impact. \nPresenters \nVichal Kumar is the Director of Capacity-Building at Partners for Justice. Vichal uses his expertise in creating and implementing collaborative and holistic defense programs to offer technical expertise to public defender offices throughout the country. Prior to PFJ Vichal served as the Managing Director of the Civil Defense Practice at Neighborhood Defender Services of Harlem\, where he created the practice responsible for the representation of clients in essential civil matters including: immigration; housing; employment; civil asset forfeiture; and social services connections. While attending the law school\, Vichal worked as a Civil Legal Advocate at The Bronx Defenders. Upon graduation\, Vichal became a Staff Attorney and subsequently a Supervising Attorney at The Bronx Defenders. He is also a former President of the South Asian Bar Association of North America and the South Asian Bar Association of New York. \nAnnie Legomsky is the Holistic Defense Services Leader at Missouri State Public Defender.  Annie is lawyer and social worker who has combined her expertise in both fields to create a more holistic approach to public defense in Missouri. Annie is a St. Louis native who has been a part of MSPD since 2016. Annie joined MSPD as a trial attorney in St. Louis City in 2016 and served in that role for 3 years before transitioning into a role focused on representing the office’s clients in treatment court programs. Now\, as the Holistic Defense Services Leader for MSPD\, Annie has been paving the way to implement a collaborative and community-based approach to representation and leads a team of over 20 staff statewide. Before joining MSPD\, Annie served as a law clerk for the Hon. Rodney W. Sippel in the Eastern District of Missouri. Annie graduated from Washington University’s School of Law and the Brown School of Social Work in 2014 with her JD/MSW. Annie is also a proud wife and mom of two adorable toddlers.
URL:https://publicdefenders.us/event/webinar-collaborative-holistic-services-where-to-begin-part-2/
CATEGORIES:Webinar
ATTACH;FMTTYPE=image/png:https://publicdefenders.us/app/uploads/2023/12/Events-Icons-webinar.png
LOCATION:https://publicdefenders-us.zoom.us/j/84264954017
END:VEVENT
END:VCALENDAR