BEGIN:VCALENDAR
VERSION:2.0
PRODID:-//National Association for Public Defense - ECPv6.13.2.1//NONSGML v1.0//EN
CALSCALE:GREGORIAN
METHOD:PUBLISH
X-WR-CALNAME:National Association for Public Defense
X-ORIGINAL-URL:https://publicdefenders.us
X-WR-CALDESC:Events for National Association for Public Defense
REFRESH-INTERVAL;VALUE=DURATION:PT1H
X-Robots-Tag:noindex
X-PUBLISHED-TTL:PT1H
BEGIN:VTIMEZONE
TZID:America/New_York
BEGIN:DAYLIGHT
TZOFFSETFROM:-0500
TZOFFSETTO:-0400
TZNAME:EDT
DTSTART:20240310T070000
END:DAYLIGHT
BEGIN:STANDARD
TZOFFSETFROM:-0400
TZOFFSETTO:-0500
TZNAME:EST
DTSTART:20241103T060000
END:STANDARD
END:VTIMEZONE
BEGIN:VEVENT
DTSTART;VALUE=DATE:20240212
DTEND;VALUE=DATE:20240213
DTSTAMP:20260420T230140
CREATED:20231213T182732Z
LAST-MODIFIED:20240208T212433Z
UID:10000039-1707696000-1707782399@publicdefenders.us
SUMMARY:Online Course - History Matters: Unleashing the Potential of Your Defense
DESCRIPTION:Online Course History Matters: Exploring the Power of History and Unleashing the Potential of Your Defense Strategy \nFebruary 12 – April 15  (no class on Feb 19th)   \nPRICE $370 for members  $450 for non members \nREGISTRATION DEADLINE – February 1\, 2024 AT 5:00 PM EASTERN | 4:00PM CT | 3:00PM MT | 2:00 PM PT\nNeed help with this registration process?  Watch this video.  \n\nAPPLY FOR SCHOLARSHIP HERE  MONDAY\, January 18 AT NOON EASTERN DEADLINE \nThis course includes Weekly Small Group Meetings: Mondays at 4:00-5:30pm ET | 3:00-4:30 pm CT | 2:00-3:30 pm MT | 1:00-2:30 pm PT \nCourse Description: This course is a must-take for attorneys\, investigators\, mitigation specialists\, social workers\, and all defense team members who want to conduct thorough investigations to answer questions essential to defending individuals impacted by the criminal legal system. Where we come from matters. We know that history is directly linked to many of the issues that directly impact the trajectory of our client’s lives. But how often do we collect information that allows us to tell a story of historical impact\, prejudice\, oppression\, community\, and trauma and how it affects our clients? This course will give participants the tools to conduct such an investigation. This course will include lectures from nationally recognized experts. In small group sessions\, faculty and coaches will assist participants with an active case to complete a multi-level historical investigation that would be helpful at any dispositional phase of your case. \nCourse Objectives:  By the end of this course\, participants will be able to: \n\nUtilize strategies and tools to investigate and humanize clients’ lives.\nElevate litigation and mitigation tactics to protect and affirm clients’ due process rights.\nReview studies\, research\, reports\, etc.\, documenting the impact of violence\, injustice\, and poverty on clients’ well-being and long-standing effects.\nParticipate in and model normalizing forthright dialogues about the relevance of history and its social context to clients’ lived experiences via discussion boards and group discussions.\nIncrease awareness\, appreciation\, and utilization of the impact of historical trauma\, prejudice\, oppression\, culture\, and community trauma.\nSupport each other in a small group space for debriefing\, brainstorming\, incubating ideas\, and providing accountability for goals.\n\nWeekly Small Group Meetings: Mondays at 4:00-5:30 pm ET | 3:00-4:30 pm CT | 2:00-3:30 pm MT | 1:00-2:30 pm PT \nCourse Faculty: Dr. Sharon Jones-Eversley and Dr. Donavan Bailey\, with additional guest faculty \nSharon Jones-Eversley\, DrPH\, is a Professor Emeritus and Social Epidemiologist from Towson University. Her interdisciplinary research expertise includes social epidemiology\,  legal epidemiology\, family science\, community science\, social justice\, equity\, health disparities\, intergenerational: disease distribution\, morbidity\, mortality\, death exposure\, and premature death. The precedence of her scholarship highlights the lived experiences and exposures to persistent deprivation\, injustice\, illness\, violence\, and preventable deaths among Black families and communities. Dr. Jones-Eversley earned a Doctorate in Public Health from Morgan State University School of Community Health and Policy. She earned her Master of Arts in Legal and Ethical Studies from the University of Baltimore. She is also a member of several professional organizations: the International Collaboration for Participatory Health Research\, Advancing Culturally Responsive and Equitable (ACE) Evaluation Network\, American Public Health Association\, American Evaluation Association\, Nonprofit Leadership Alliance\, Maryland Genealogical Society\, and the Towson University Retired Faculty Association. She is a nonprofit board member for the Boys and Girls Clubs of Metropolitan Baltimore-Cambridge and the Myrtle Tyler Faithful Fund.\n\n\nDonavan Bailey is a Licensed Social Worker with the Colorado State Public Defender-Brighton Office. He has worked in various similar capacities with 17 years of experience working as a Capital Mitigation Specialist with the Maricopa County Office of the Legal Advocate\, a Mitigation Specialist with the Maricopa County Public Defender Office\, and a Dispositional Advisor with the Minnesota State Public Defender Office.  His Public Defender work has extended both inside and outside the office and courtroom\, advocating within the community and conducting training on defense mitigation and cultural competency. Donavan is trained as a cultural competency facilitator through Dr. Dietra Hawkin’s training program. He is a licensed social worker in Minnesota and Colorado and holds a Master of Science in Educational Leadership and a Doctorate in Education from Winona State University.
URL:https://publicdefenders.us/event/history-matters-exploring-the-power-of-history-and-unleashing-the-potential-of-your-defense/
CATEGORIES:Online Course
ATTACH;FMTTYPE=image/png:https://publicdefenders.us/app/uploads/2023/12/3.png
END:VEVENT
BEGIN:VEVENT
DTSTART;VALUE=DATE:20240212
DTEND;VALUE=DATE:20240213
DTSTAMP:20260420T230140
CREATED:20231213T184557Z
LAST-MODIFIED:20240212T184301Z
UID:10000038-1707696000-1707782399@publicdefenders.us
SUMMARY:Online Course: Effective Coaching\, Team Work\, and Case Review: Helping Defender Leaders Help Clients
DESCRIPTION:Online Course: Effective Coaching\, Team Work\, and Case Review: Helping Defender Leaders Help Clients –\nOnline Weekly February 12 – March 25\, 2024\nThis course has sold out in previous sessions – register soon to guarantee your spot\nRegistration Deadline Feb 1\nNeed help with this registration process?  Watch this video.    \nAudience – Defender Chiefs\, Deputies\, Leadership Team Members\, Supervisors\nThis is a course for lawyer and nonlawyer supervisors and team leaders at all levels in both full-time and managed assigned counsel programs about growth and development of staff to help clients even better and comply with ethical responsibilities of supervision. \nExpanding our capacity as a coach and the capacity of our staff to take effective action for clients is a primary responsibility of a defender supervisor-leader. Quality performance for clients is the primary responsibility of public defense programs. With quality representation as a defender core value\, active coaching is not an optional undertaking. Supervision is an ethical obligation. The objective of supervision is to assure that all defense services provided by lawyers and staff are effective in accordance with the prevailing professional public defense standards and competency within the meaning of the rules of professional conduct. \nThrough the course\, you will create a comprehensive coaching and communication strategy\, performance agreements\, and evaluations\, as well as ways to provide strengths-based developmental feedback. This course will build on your coaching strengths. You will be applying the information in the presentations to the actual situations that you face now. \nYou will learn:\n•  A theory of successful\, dynamic coaching\n•  Offering effective feedback\n•  Engaging employees\n•  Using a 3-step performance process\n•  Managing\, creating\, and leading interdisciplinary teams\n•  Promoting productive conflict\n•  Leading the case-review process\n•  Conducting file reviews\n•  Creating performance agreements\n•  Conducting progressive discipline for unsatisfactory performance or misconduct\n•  Leading staff meetings and having key coaching conversations\n•  Communicating and framing your coaching process to staff\n•  Learning about ways to thrive for the long haul as a hardy coach\nThere are a total of seven Sections over seven consecutive weeks. Each Section has video presentations and other materials to review at your convenience. Each Section has an assignment based on the work unit situation you bring to the course and you as a coach. The videos\, materials and assignments will be discussed in a weekly 90 minute Zoom small group with a structured discussion. These weekly Zoom discussions will be on the same day and at the same time every week. \nIn taking this online course\, you agree to keep conversations in the small group confidential. Time expectations for this course per week are:\n• Watching course videos – about 1 – 2  hours\n• Weekly assignment – about 1 – 2 hours\n• Weekly small groups – 1.5 hours \nCourse weekly small group meeting times will be set by a poll of registrants to make sure it works with your schedule. When indicating times you can meet\, indicate all times you can meet. Because of the number of registrants\, we are highly unlikely to be able to accommodate a registrant that can only meet at one of the available times. \nEd Monahan\, Ernie Lewis\, Hilary Potashner\, Stephanne Thornton and Twyla Carter will facilitate the small group discussions. These coaches have many years of experience supervising public defenders. \n“In the simplest\, day-in\, day-out terms\, masterful coaching involves expanding people’s capacity to take effective action. It often comes down to making it possible for people to succeed in areas where they are most stuck or ineffective.” – Robert Hargrove \nPrice: $600 for NAPD Members.  $750 for Non-Members. \nLive Orientation for All Registrants: Thursday\, February 8th at 4:00 pm ET | 3:00 pm CT | 2:00 pm MT | 1:00 pm PT. A recording of orientation will be available for those unable to attend the live presentation.\nRegistration Deadline – February 1 AT NOON EASTERN \nSmall Group Meeting Times: Participants will select the options that work best for their schedule at registration; participants must select all times that they can meet; being able to meet only at one time is highly unlikely to be able to be accommodated \nMonday 5:00 p.m. ET | 4:00 pm CT | 3:00 pm MT | 2:00 pm PT    (this is the only time block for the other defense professionals (not attorneys) \nWednesday 10:30 am ET | 9:30 am CT | 8:30 am MT | 7:30 am PT\nWednesday 11 am ET | 10 am CT | 9 am MT | 8 am PT\nThursday 11 am ET | 10 am CT | 9 am MT | 8 am PT\nFriday at 11 am ET | 10 am CT | 9 am MT | 8 am PT\nFriday at 1 pm ET | 12 pm CT | 11 am MT | 10 am PT\nFriday at 3 pm ET | 2 pm CT | 1 pm MT | 12 pm PT \n\n“The videos were awesome but the breakout sessions were the best. Meeting fellow leaders and knowing that I’m not alone in my leadership struggles. “\n“I loved the materials. I worked hard on my assignments and I have some really great things to implement in my office. I loved meeting fellow Defenders who are coaching in different places and facing different struggles.”\n“I really liked the small group discussions. It really forces people to open up about the challenges they face in a productive way\, instead of these challenges silently weighing on people or being the topic of more toxic discussions within their offices.”
URL:https://publicdefenders.us/event/online-course-effective-coaching-team-work-and-case-review-helping-defender-leaders-help-clients/
CATEGORIES:Online Course
ATTACH;FMTTYPE=image/png:https://publicdefenders.us/app/uploads/2023/12/3.png
END:VEVENT
END:VCALENDAR