BEGIN:VCALENDAR
VERSION:2.0
PRODID:-//National Association for Public Defense - ECPv6.13.2.1//NONSGML v1.0//EN
CALSCALE:GREGORIAN
METHOD:PUBLISH
X-ORIGINAL-URL:https://publicdefenders.us
X-WR-CALDESC:Events for National Association for Public Defense
REFRESH-INTERVAL;VALUE=DURATION:PT1H
X-Robots-Tag:noindex
X-PUBLISHED-TTL:PT1H
BEGIN:VTIMEZONE
TZID:America/New_York
BEGIN:DAYLIGHT
TZOFFSETFROM:-0500
TZOFFSETTO:-0400
TZNAME:EDT
DTSTART:20240310T070000
END:DAYLIGHT
BEGIN:STANDARD
TZOFFSETFROM:-0400
TZOFFSETTO:-0500
TZNAME:EST
DTSTART:20241103T060000
END:STANDARD
END:VTIMEZONE
BEGIN:VEVENT
DTSTART;TZID=America/New_York:20240126T140000
DTEND;TZID=America/New_York:20240126T150000
DTSTAMP:20260420T230835
CREATED:20240125T000022Z
LAST-MODIFIED:20240125T200543Z
UID:10000059-1706277600-1706281200@publicdefenders.us
SUMMARY:Investigator Meetup - 01/26/2024 2:00 EST\, 1:00 CST - Open Chat
DESCRIPTION:Get ready for a fantastic Friday stress-busting meet-up! We’re here to lend an empathetic ear and be your sounding board for whatever is on your mind. There’s no rigid agenda here – we’re keeping it free-flowing. Whether you’ve got complaints\, gripes\, or exciting successes to share\, we’re all ears and ready to chat. So\, don’t miss out on this opportunity to unwind\, connect\, and let it all out! Join us for an uplifting conversation!\nJONATHAN LYON is currently the Investigator Resource Coordinator\, past Member Support Coordinator and the national survey investigator for National Association for Public Defense. Since the pandemic he has led roughly 150 meetups for investigators both nationally and internationally. Jon is the president of Lyon Legal Logistics to help attorneys in and out of court with Discovery and technology and has assisted attorneys in multiple federal court jurisdictions (www.lyonlegallogistics.com/).  He is also a legal investigator for McClain Investigations. Jon began his investigative background working in a PI firm and then for 12 years for the Office of the State Appellate Defender of Illinois. His primary focus has been on post-conviction death penalty cases. In addition\, Jon worked for LexisNexis as an award-winning national trainer of the CaseMap suite of software. He also worked for Lockheed Martin as a contractor supporting government attorneys and investigators with software and electronic discovery support needs. He is a Certified Defense Investigator through DePaul’s Center for Justice in Capital Cases and a Certified Trainer through the Bureau of Justice Assistance. He has taught at the Clarence Darrow Death Penalty Defense College\, Cardoza\, DePaul\, Kent\, Iowa\, and University of Michigan law schools. \nHe has also taught at the National Defense Investigator Associations Annual Conferences\, National Association of Legal Investigators annual conference\, National Association for Public Defense\, The Innocence Project\, NACDL\, Federal Defender’s winning strategies conferences\, Life in the Balance\, American Society of Criminology\, US Army\, Intellenet and numerous state and county public defender conferences. It is not unheard of for Jon to be invited back to conferences. Jon was most recently interviewed on “Public Defenseless” episode #99. Jon is the Creator/Webmaster for the internationally utilized website www.internetsleuth.net. \n 
URL:https://publicdefenders.us/event/investigator-meetup-01-26-2023-200-est-100-cst-open-chat/
CATEGORIES:Meetup
ATTACH;FMTTYPE=image/png:https://publicdefenders.us/app/uploads/2023/12/Events-Icons-webinar-1.png
LOCATION:https://publicdefenders-us.zoom.us/j/87895561683
END:VEVENT
END:VCALENDAR