BEGIN:VCALENDAR
VERSION:2.0
PRODID:-//National Association for Public Defense - ECPv6.13.2.1//NONSGML v1.0//EN
CALSCALE:GREGORIAN
METHOD:PUBLISH
X-ORIGINAL-URL:https://publicdefenders.us
X-WR-CALDESC:Events for National Association for Public Defense
REFRESH-INTERVAL;VALUE=DURATION:PT1H
X-Robots-Tag:noindex
X-PUBLISHED-TTL:PT1H
BEGIN:VTIMEZONE
TZID:America/New_York
BEGIN:DAYLIGHT
TZOFFSETFROM:-0500
TZOFFSETTO:-0400
TZNAME:EDT
DTSTART:20240310T070000
END:DAYLIGHT
BEGIN:STANDARD
TZOFFSETFROM:-0400
TZOFFSETTO:-0500
TZNAME:EST
DTSTART:20241103T060000
END:STANDARD
END:VTIMEZONE
BEGIN:VEVENT
DTSTART;TZID=America/New_York:20240124T120000
DTEND;TZID=America/New_York:20240124T130000
DTSTAMP:20260421T005731
CREATED:20240117T182126Z
LAST-MODIFIED:20240118T213950Z
UID:10000054-1706097600-1706101200@publicdefenders.us
SUMMARY:Social Worker Meet Up - Social Worker Meet-Up: Sample Swap!
DESCRIPTION:This meet-up for social workers\, sentencing advocates\, mitigation specialists\, dispositional advocates\, and others in similar roles will be spent discussing\, sharing\, and swapping samples of interview forms\, biopsychosocial assessments\, and mitigation reports! Bring a sample of what you use to share in the chat\, and we will talk about and view examples to help us gain ideas in our work! \nStephanne Cline Thornton is a West Virginia native who has worked in and around criminal defense and mitigation for more than 20 years in Georgia\, Colorado\, and West Virginia. She is currently the Clinical Director for the West Virginia Judicial and Lawyer Assistance Program\, and owner of Transform Legal\, a consultancy focused on mitigation\, training\, and sustainability. As a Licensed Independent Clinical Social Worker and Master Addiction Counselor\, Stephanne focuses on proper assessment for and access to trauma and substance use disorder treatment to ensure the health and well-being of affected individuals. Stephanne is on the Trauma-Informed Care Network Speakers Bureau and uses that platform to call attention to the intersection of secondary traumatic stress and legal practice. She approaches her work with clients\, lawyers\, social workers\, and mitigation specialists through a contextualized mitigation lens.
URL:https://publicdefenders.us/event/social-worker-meet-up-social-worker-meet-up-sample-swap/
CATEGORIES:Meetup
ATTACH;FMTTYPE=image/png:https://publicdefenders.us/app/uploads/2023/12/Events-Icons-webinar-1.png
LOCATION:https://publicdefenders.us/event/social-worker-meet-up-social-worker-meet-up-sample-swap/
END:VEVENT
BEGIN:VEVENT
DTSTART;TZID=America/New_York:20240124T130000
DTEND;TZID=America/New_York:20240124T140000
DTSTAMP:20260421T005731
CREATED:20240122T195329Z
LAST-MODIFIED:20240422T173413Z
UID:10000057-1706101200-1706104800@publicdefenders.us
SUMMARY:DEIB professionals\, join us for our first DEIJ MEETUP of 2024!
DESCRIPTION:We will be led by guest speaker\, Charles Fox\, M.A.P.P. Charles is the Director of Diversity & Development for the Legal Aid Society of Suffolk County\, Inc. He has expertise in developing training\, inclusive programs\, and strategies in recruitment\, as well as hiring to promote equity within and outside of the organization. You don’t want to miss this presentation!\n\nThe meetup agenda\, speaker bio\, and reminders will be posted on the listserv.\n\nSee you there!\n\n\nNot on the listserv? Send your request to be added to the racial justice listserv to BGT\, DEIJ Coordinator\, at Brittanygt@publicdefenders.us.\n\nSee you there!
URL:https://publicdefenders.us/event/deib-professionals-join-us-for-our-first-deij-meetup-of-2024/
CATEGORIES:Meetup
ATTACH;FMTTYPE=image/png:https://publicdefenders.us/app/uploads/2023/12/Events-Icons-webinar-1.png
LOCATION:https://publicdefenders.us/event/deib-professionals-join-us-for-our-first-deij-meetup-of-2024/
END:VEVENT
BEGIN:VEVENT
DTSTART;TZID=America/New_York:20240124T151000
DTEND;TZID=America/New_York:20240124T160000
DTSTAMP:20260421T005731
CREATED:20240122T211641Z
LAST-MODIFIED:20240123T145304Z
UID:10000058-1706109000-1706112000@publicdefenders.us
SUMMARY:Grief and Loss – Molly Rannes - BWW
DESCRIPTION:In this discussion\, we will talk about the complexity of grief: what it is\, how it manifests itself\, and what we can do in the workplace to support ourselves and others through grief. \n  \nInvitation \nEveryone working in public defense is invited to Be Well Wednesdays! \nWHEN: Wednesdays at 12:10-1:00 pm Pacific/3:10-4:00 pm Eastern. \nDrop in for any session. Stay for all or part of the session. Always free!
URL:https://publicdefenders.us/event/grief-and-loss-molly-rannes/
CATEGORIES:Meetup
ATTACH;FMTTYPE=image/png:https://publicdefenders.us/app/uploads/2023/12/Events-Icons-webinar-1.png
END:VEVENT
END:VCALENDAR