BEGIN:VCALENDAR
VERSION:2.0
PRODID:-//National Association for Public Defense - ECPv6.13.2.1//NONSGML v1.0//EN
CALSCALE:GREGORIAN
METHOD:PUBLISH
X-ORIGINAL-URL:https://publicdefenders.us
X-WR-CALDESC:Events for National Association for Public Defense
REFRESH-INTERVAL;VALUE=DURATION:PT1H
X-Robots-Tag:noindex
X-PUBLISHED-TTL:PT1H
BEGIN:VTIMEZONE
TZID:America/New_York
BEGIN:DAYLIGHT
TZOFFSETFROM:-0500
TZOFFSETTO:-0400
TZNAME:EDT
DTSTART:20240310T070000
END:DAYLIGHT
BEGIN:STANDARD
TZOFFSETFROM:-0400
TZOFFSETTO:-0500
TZNAME:EST
DTSTART:20241103T060000
END:STANDARD
END:VTIMEZONE
BEGIN:VEVENT
DTSTART;TZID=America/New_York:20240110T120000
DTEND;TZID=America/New_York:20240110T130000
DTSTAMP:20260421T005733
CREATED:20240109T200036Z
LAST-MODIFIED:20240109T204103Z
UID:10000049-1704888000-1704891600@publicdefenders.us
SUMMARY:Social Worker Meet Up - Starting the Year Off with Our Purpose
DESCRIPTION:We are going to start our first meet-up of 2024 redefining and rediscovering our purpose! Inspired by the Ted Talk by Adam Leipzig (“How to know your life purpose in 5 minutes”) we are going to hone our elevator speech and reinvigorate why it is so important that we do this critical work! Please join this meet-up and share support for and inspiration with your colleagues! \nStephanne Cline Thornton is a West Virginia native who has worked in and around criminal defense and mitigation for more than 20 years in Georgia\, Colorado\, and West Virginia. She is currently the Clinical Director for the West Virginia Judicial and Lawyer Assistance Program\, and owner of Transform Legal\, a consultancy focused on mitigation\, training\, and sustainability. As a Licensed Independent Clinical Social Worker and Master Addiction Counselor\, Stephanne focuses on proper assessment for and access to trauma and substance use disorder treatment to ensure the health and well-being of affected individuals. Stephanne is on the Trauma-Informed Care Network Speakers Bureau and uses that platform to call attention to the intersection of secondary traumatic stress and legal practice. She approaches her work with clients\, lawyers\, social workers\, and mitigation specialists through a contextualized mitigation lens.
URL:https://publicdefenders.us/event/starting-the-year-off-with-our-purpose/
CATEGORIES:Meetup
LOCATION:https://publicdefenders-us.zoom.us/j/81277929417
END:VEVENT
BEGIN:VEVENT
DTSTART;TZID=America/New_York:20240110T140000
DTEND;TZID=America/New_York:20240110T150000
DTSTAMP:20260421T005733
CREATED:20240109T202208Z
LAST-MODIFIED:20240109T202208Z
UID:10000050-1704895200-1704898800@publicdefenders.us
SUMMARY:Investigator Supervisor meetup - First one of 2024!
DESCRIPTION:Supervisors\, leaders and senior investigators \nPlease join us tomorrow for our monthly meetup\, bring your concerns\, issues and successes! \nSee you then!
URL:https://publicdefenders.us/event/investigator-supervisor-meetup-first-one-of-2024/
CATEGORIES:Meetup
LOCATION:https://publicdefenders-us.zoom.us/j/82381950121
END:VEVENT
END:VCALENDAR