BEGIN:VCALENDAR
VERSION:2.0
PRODID:-//National Association for Public Defense - ECPv6.13.2.1//NONSGML v1.0//EN
CALSCALE:GREGORIAN
METHOD:PUBLISH
X-ORIGINAL-URL:https://publicdefenders.us
X-WR-CALDESC:Events for National Association for Public Defense
REFRESH-INTERVAL;VALUE=DURATION:PT1H
X-Robots-Tag:noindex
X-PUBLISHED-TTL:PT1H
BEGIN:VTIMEZONE
TZID:America/New_York
BEGIN:DAYLIGHT
TZOFFSETFROM:-0500
TZOFFSETTO:-0400
TZNAME:EDT
DTSTART:20240310T070000
END:DAYLIGHT
BEGIN:STANDARD
TZOFFSETFROM:-0400
TZOFFSETTO:-0500
TZNAME:EST
DTSTART:20241103T060000
END:STANDARD
END:VTIMEZONE
BEGIN:VEVENT
DTSTART;TZID=America/New_York:20240109T130000
DTEND;TZID=America/New_York:20240109T140000
DTSTAMP:20260421T005803
CREATED:20240109T175541Z
LAST-MODIFIED:20240109T175541Z
UID:10000048-1704805200-1704808800@publicdefenders.us
SUMMARY:Join us for our first RACIAL JUSTICE MEETUP of 2024!
DESCRIPTION:We will be led by guest speaker\, Christian Lassiter\, Esq. An experienced public defender at both state and federal levels\, Christian is curently a Capital Fellow with the Federal Death Penalty Resource Counsel Project. Christian will lead our meetup in an exploration of racial justice and capital defense work. You don’t want to miss it!\n\nThe meetup agenda\, speaker bio\, and reminders will be posted on the listserv.\n\n\nBe sure that you don’t miss a Racial Justice Meetup (every second Tuesday of the month) or our discussions by adding our calendar and joining the listserv.\n\nNot on the listserv? Send your request to be added to the racial justice listserv to BGT\, DEIJ Coordinator\, at Brittanygt@publicdefenders.us.\n\nSee you there!
URL:https://publicdefenders.us/event/join-us-for-our-first-racial-justice-meetup-of-2024/
LOCATION:https://publicdefenders-us.zoom.us/j/82126934757
END:VEVENT
END:VCALENDAR