BEGIN:VCALENDAR
VERSION:2.0
PRODID:-//National Association for Public Defense - ECPv6.13.2.1//NONSGML v1.0//EN
CALSCALE:GREGORIAN
METHOD:PUBLISH
X-WR-CALNAME:National Association for Public Defense
X-ORIGINAL-URL:https://publicdefenders.us
X-WR-CALDESC:Events for National Association for Public Defense
REFRESH-INTERVAL;VALUE=DURATION:PT1H
X-Robots-Tag:noindex
X-PUBLISHED-TTL:PT1H
BEGIN:VTIMEZONE
TZID:America/New_York
BEGIN:DAYLIGHT
TZOFFSETFROM:-0500
TZOFFSETTO:-0400
TZNAME:EDT
DTSTART:20230312T070000
END:DAYLIGHT
BEGIN:STANDARD
TZOFFSETFROM:-0400
TZOFFSETTO:-0500
TZNAME:EST
DTSTART:20231105T060000
END:STANDARD
END:VTIMEZONE
BEGIN:VEVENT
DTSTART;TZID=America/New_York:20231129T130000
DTEND;TZID=America/New_York:20231129T140000
DTSTAMP:20260421T022725
CREATED:20231128T202357Z
LAST-MODIFIED:20231128T203104Z
UID:10000032-1701262800-1701266400@publicdefenders.us
SUMMARY:Inadequate Recognition of Indigenous Peoples in the DEI Landscape.
DESCRIPTION:DEI professionals\, join us for our monthly DEIJ MEETUP on November 29\, 2023 at 1 p.m. (est)/ 12 p.m. (cst) / 11 a.m. (mt) / 10 a.m. (pst).\nIn honor of Indigenous Peoples Month\, we will have our own Lydia Schildt present on the “Inadequate Recognition of Indigenous Peoples in the DEI Landscape.” \nSee you there! \nLydia’s Bio: \nLydia Schildt is a proud member of the AmskapiPikuni (Southern Blackfeet) tribe AmskapiPikuni (Southern Blackfeet) tribe from Blackfeet Nation\, MT and currently from Blackfeet Nation\, MT and currently resides in Missoula. Holding a psychology degree from Salish Kootenai College\, she’s pursuing a master’s with a General College\, she’s pursuing a master’s with a General Psychology focus. Presently a Training Specialist at Psychology focus. Presently a Training Specialist at the Montana State Office of Public Defender\, Lydia is the Montana State Office of Public Defender\, Lydia is also an online Adjunct Instructor at her alma mater. also an online Adjunct Instructor at her alma mater. She educates on subjects including\, She educates on subjects including\, Historical Trauma\, Health Stress and Trauma in Historical Trauma\, Health Stress and Trauma in Indian Country\, Abnormal Psychology\, Indian Country\, Abnormal Psychology\, Indigenous Research\, and Social Psychology. Lydia Schildt is a proud member of the AmskapiPikuni (Southern Blackfeet) tribe AmskapiPikuni (Southern Blackfeet) tribe from Blackfeet Nation\, MT and currently from Blackfeet Nation\, MT and currently resides in Missoula.
URL:https://publicdefenders.us/event/inadequate-recognition-of-indigenous-peoples-in-the-dei-landscape/
CATEGORIES:Meetup
ATTACH;FMTTYPE=image/jpeg:https://publicdefenders.us/app/uploads/2023/11/NAPD-DEI-Meet-Up-Flyer-11.2023.jpg
LOCATION:https://publicdefenders-us.zoom.us/j/81249255754
END:VEVENT
END:VCALENDAR